BEGIN:VCALENDAR
VERSION:2.0
PRODID:-//Las Vegas Jazz Society - ECPv6.15.20//NONSGML v1.0//EN
CALSCALE:GREGORIAN
METHOD:PUBLISH
X-WR-CALNAME:Las Vegas Jazz Society
X-ORIGINAL-URL:https://lvjs.org
X-WR-CALDESC:Events for Las Vegas Jazz Society
REFRESH-INTERVAL;VALUE=DURATION:PT1H
X-Robots-Tag:noindex
X-PUBLISHED-TTL:PT1H
BEGIN:VTIMEZONE
TZID:America/Los_Angeles
BEGIN:DAYLIGHT
TZOFFSETFROM:-0800
TZOFFSETTO:-0700
TZNAME:PDT
DTSTART:20250309T100000
END:DAYLIGHT
BEGIN:STANDARD
TZOFFSETFROM:-0700
TZOFFSETTO:-0800
TZNAME:PST
DTSTART:20251102T090000
END:STANDARD
BEGIN:DAYLIGHT
TZOFFSETFROM:-0800
TZOFFSETTO:-0700
TZNAME:PDT
DTSTART:20260308T100000
END:DAYLIGHT
BEGIN:STANDARD
TZOFFSETFROM:-0700
TZOFFSETTO:-0800
TZNAME:PST
DTSTART:20261101T090000
END:STANDARD
BEGIN:DAYLIGHT
TZOFFSETFROM:-0800
TZOFFSETTO:-0700
TZNAME:PDT
DTSTART:20270314T100000
END:DAYLIGHT
BEGIN:STANDARD
TZOFFSETFROM:-0700
TZOFFSETTO:-0800
TZNAME:PST
DTSTART:20271107T090000
END:STANDARD
END:VTIMEZONE
BEGIN:VEVENT
DTSTART;TZID=America/Los_Angeles:20260509T200000
DTEND;TZID=America/Los_Angeles:20260509T233000
DTSTAMP:20260421T063519
CREATED:20260402T205824Z
LAST-MODIFIED:20260402T205824Z
UID:10015971-1778356800-1778369400@lvjs.org
SUMMARY:Coco & The  Sidecars - Mob Museum Underground
DESCRIPTION:
URL:https://lvjs.org/event/coco-the-sidecars-mob-museum-underground/2026-05-09/
LOCATION:Mob Museum’s Underground\, 300 Stewart Avenue\, Las Vegas\, NV\, 89101\, United States
GEO:36.1728228;-115.1412524
X-APPLE-STRUCTURED-LOCATION;VALUE=URI;X-ADDRESS=Mob Museum’s Underground 300 Stewart Avenue Las Vegas NV 89101 United States;X-APPLE-RADIUS=500;X-TITLE=300 Stewart Avenue:geo:-115.1412524,36.1728228
END:VEVENT
BEGIN:VEVENT
DTSTART;TZID=America/Los_Angeles:20260531T190000
DTEND;TZID=America/Los_Angeles:20260531T230000
DTSTAMP:20260421T063519
CREATED:20260402T205824Z
LAST-MODIFIED:20260402T205824Z
UID:10015972-1780254000-1780268400@lvjs.org
SUMMARY:Coco & The  Sidecars - Mob Museum Underground
DESCRIPTION:
URL:https://lvjs.org/event/coco-the-sidecars-mob-museum-underground/2026-05-31/
LOCATION:Mob Museum’s Underground\, 300 Stewart Avenue\, Las Vegas\, NV\, 89101\, United States
GEO:36.1728228;-115.1412524
X-APPLE-STRUCTURED-LOCATION;VALUE=URI;X-ADDRESS=Mob Museum’s Underground 300 Stewart Avenue Las Vegas NV 89101 United States;X-APPLE-RADIUS=500;X-TITLE=300 Stewart Avenue:geo:-115.1412524,36.1728228
END:VEVENT
END:VCALENDAR