BEGIN:VCALENDAR
VERSION:2.0
PRODID:-//Las Vegas Jazz Society - ECPv6.15.20//NONSGML v1.0//EN
CALSCALE:GREGORIAN
METHOD:PUBLISH
X-WR-CALNAME:Las Vegas Jazz Society
X-ORIGINAL-URL:https://lvjs.org
X-WR-CALDESC:Events for Las Vegas Jazz Society
REFRESH-INTERVAL;VALUE=DURATION:PT1H
X-Robots-Tag:noindex
X-PUBLISHED-TTL:PT1H
BEGIN:VTIMEZONE
TZID:America/Los_Angeles
BEGIN:DAYLIGHT
TZOFFSETFROM:-0800
TZOFFSETTO:-0700
TZNAME:PDT
DTSTART:20250309T100000
END:DAYLIGHT
BEGIN:STANDARD
TZOFFSETFROM:-0700
TZOFFSETTO:-0800
TZNAME:PST
DTSTART:20251102T090000
END:STANDARD
BEGIN:DAYLIGHT
TZOFFSETFROM:-0800
TZOFFSETTO:-0700
TZNAME:PDT
DTSTART:20260308T100000
END:DAYLIGHT
BEGIN:STANDARD
TZOFFSETFROM:-0700
TZOFFSETTO:-0800
TZNAME:PST
DTSTART:20261101T090000
END:STANDARD
BEGIN:DAYLIGHT
TZOFFSETFROM:-0800
TZOFFSETTO:-0700
TZNAME:PDT
DTSTART:20270314T100000
END:DAYLIGHT
BEGIN:STANDARD
TZOFFSETFROM:-0700
TZOFFSETTO:-0800
TZNAME:PST
DTSTART:20271107T090000
END:STANDARD
END:VTIMEZONE
BEGIN:VEVENT
DTSTART;TZID=America/Los_Angeles:20260425T140000
DTEND;TZID=America/Los_Angeles:20260425T160000
DTSTAMP:20260425T063913
CREATED:20260330T010507Z
LAST-MODIFIED:20260330T010507Z
UID:10015876-1777125600-1777132800@lvjs.org
SUMMARY:5th Anniversary Soiree - The Jazz Arts Community Ensemble - Winchester Dondero Cultural Center
DESCRIPTION:
URL:https://lvjs.org/event/5th-anniversary-soiree-the-jazz-arts-community-ensemble-winchester-dondero-cultural-center/
LOCATION:Winchester Cultural Center\, 3130 McLeod Drive\, Las Vegas\, NV\, 89121\, United States
GEO:36.1326968;-115.1085463
X-APPLE-STRUCTURED-LOCATION;VALUE=URI;X-ADDRESS=Winchester Cultural Center 3130 McLeod Drive Las Vegas NV 89121 United States;X-APPLE-RADIUS=500;X-TITLE=3130 McLeod Drive:geo:-115.1085463,36.1326968
END:VEVENT
BEGIN:VEVENT
DTSTART;TZID=America/Los_Angeles:20260425T183000
DTEND;TZID=America/Los_Angeles:20260425T213000
DTSTAMP:20260425T063913
CREATED:20260201T191102Z
LAST-MODIFIED:20260201T191102Z
UID:10015098-1777141800-1777152600@lvjs.org
SUMMARY:Doug Taylor - Bootlegger Bistro
DESCRIPTION:
URL:https://lvjs.org/event/doug-taylor-bootlegger-bistro/2026-04-25/
LOCATION:Bootlegger Bistro\, 7770 S Las Vegas Blvd\, Las Vegas\, 89123\, United States
GEO:36.0483903;-115.1722379
X-APPLE-STRUCTURED-LOCATION;VALUE=URI;X-ADDRESS=Bootlegger Bistro 7770 S Las Vegas Blvd Las Vegas 89123 United States;X-APPLE-RADIUS=500;X-TITLE=7770 S Las Vegas Blvd:geo:-115.1722379,36.0483903
END:VEVENT
BEGIN:VEVENT
DTSTART;TZID=America/Los_Angeles:20260425T190000
DTEND;TZID=America/Los_Angeles:20260425T203000
DTSTAMP:20260425T063913
CREATED:20260310T044049Z
LAST-MODIFIED:20260310T044049Z
UID:10015539-1777143600-1777149000@lvjs.org
SUMMARY:Teka - Renowned Brazilian Vocalist and Guitarist - Vic's
DESCRIPTION:
URL:https://lvjs.org/event/teka-renowned-brazilian-vocalist-and-guitarist-vics/2026-04-25/1/
LOCATION:Vic’s Las Vegas\, 355 Promenade Place\, Las Vegas\, NV\, 89106\, United States
GEO:36.1689176;-115.1529008
X-APPLE-STRUCTURED-LOCATION;VALUE=URI;X-ADDRESS=Vic’s Las Vegas 355 Promenade Place Las Vegas NV 89106 United States;X-APPLE-RADIUS=500;X-TITLE=355 Promenade Place:geo:-115.1529008,36.1689176
END:VEVENT
BEGIN:VEVENT
DTSTART;TZID=America/Los_Angeles:20260425T190000
DTEND;TZID=America/Los_Angeles:20260425T203000
DTSTAMP:20260425T063913
CREATED:20260401T183243Z
LAST-MODIFIED:20260401T183243Z
UID:10015887-1777143600-1777149000@lvjs.org
SUMMARY:Ashley Loren - Myron's
DESCRIPTION:
URL:https://lvjs.org/event/ashley-loren-myrons/
LOCATION:Myron’s Cabaret Jazz\, 361 Symphony Park Ave\, Las Vegas\, NV\, 89106\, United States
GEO:36.1696506;-115.1519894
X-APPLE-STRUCTURED-LOCATION;VALUE=URI;X-ADDRESS=Myron’s Cabaret Jazz 361 Symphony Park Ave Las Vegas NV 89106 United States;X-APPLE-RADIUS=500;X-TITLE=361 Symphony Park Ave:geo:-115.1519894,36.1696506
END:VEVENT
BEGIN:VEVENT
DTSTART;TZID=America/Los_Angeles:20260425T190000
DTEND;TZID=America/Los_Angeles:20260425T220000
DTSTAMP:20260425T063913
CREATED:20260402T042000Z
LAST-MODIFIED:20260402T042000Z
UID:10015938-1777143600-1777154400@lvjs.org
SUMMARY:Ace's Las Vegas Old School Party - Maxan Jazz & Sushi
DESCRIPTION:
URL:https://lvjs.org/event/aces-las-vegas-old-school-party-maxan-jazz-sushi-3/
LOCATION:Maxan Jazz & Sushi\, 4130 S Decatur Blvd\, Las Vegas\, NV\, 89109\, United States
GEO:36.1145299;-115.2076737
X-APPLE-STRUCTURED-LOCATION;VALUE=URI;X-ADDRESS=Maxan Jazz & Sushi 4130 S Decatur Blvd Las Vegas NV 89109 United States;X-APPLE-RADIUS=500;X-TITLE=4130 S Decatur Blvd:geo:-115.2076737,36.1145299
END:VEVENT
BEGIN:VEVENT
DTSTART;TZID=America/Los_Angeles:20260425T200000
DTEND;TZID=America/Los_Angeles:20260425T233000
DTSTAMP:20260425T063913
CREATED:20260402T204706Z
LAST-MODIFIED:20260402T204706Z
UID:10015966-1777147200-1777159800@lvjs.org
SUMMARY:Dixie Flats - Mob Museum Underground
DESCRIPTION:
URL:https://lvjs.org/event/dixie-flats-mob-museum-underground-3/
LOCATION:Mob Museum’s Underground\, 300 Stewart Avenue\, Las Vegas\, NV\, 89101\, United States
GEO:36.1728228;-115.1412524
X-APPLE-STRUCTURED-LOCATION;VALUE=URI;X-ADDRESS=Mob Museum’s Underground 300 Stewart Avenue Las Vegas NV 89101 United States;X-APPLE-RADIUS=500;X-TITLE=300 Stewart Avenue:geo:-115.1412524,36.1728228
END:VEVENT
BEGIN:VEVENT
DTSTART;TZID=America/Los_Angeles:20260425T210000
DTEND;TZID=America/Los_Angeles:20260425T220000
DTSTAMP:20260425T063913
CREATED:20260310T044049Z
LAST-MODIFIED:20260310T044049Z
UID:10015540-1777150800-1777154400@lvjs.org
SUMMARY:Teka - Renowned Brazilian Vocalist and Guitarist - Vic's
DESCRIPTION:
URL:https://lvjs.org/event/teka-renowned-brazilian-vocalist-and-guitarist-vics/2026-04-25/2/
LOCATION:Vic’s Las Vegas\, 355 Promenade Place\, Las Vegas\, NV\, 89106\, United States
GEO:36.1689176;-115.1529008
X-APPLE-STRUCTURED-LOCATION;VALUE=URI;X-ADDRESS=Vic’s Las Vegas 355 Promenade Place Las Vegas NV 89106 United States;X-APPLE-RADIUS=500;X-TITLE=355 Promenade Place:geo:-115.1529008,36.1689176
END:VEVENT
END:VCALENDAR