BEGIN:VCALENDAR
VERSION:2.0
PRODID:-//Las Vegas Jazz Society - ECPv6.15.20//NONSGML v1.0//EN
CALSCALE:GREGORIAN
METHOD:PUBLISH
X-WR-CALNAME:Las Vegas Jazz Society
X-ORIGINAL-URL:https://lvjs.org
X-WR-CALDESC:Events for Las Vegas Jazz Society
REFRESH-INTERVAL;VALUE=DURATION:PT1H
X-Robots-Tag:noindex
X-PUBLISHED-TTL:PT1H
BEGIN:VTIMEZONE
TZID:America/Los_Angeles
BEGIN:DAYLIGHT
TZOFFSETFROM:-0800
TZOFFSETTO:-0700
TZNAME:PDT
DTSTART:20250309T100000
END:DAYLIGHT
BEGIN:STANDARD
TZOFFSETFROM:-0700
TZOFFSETTO:-0800
TZNAME:PST
DTSTART:20251102T090000
END:STANDARD
BEGIN:DAYLIGHT
TZOFFSETFROM:-0800
TZOFFSETTO:-0700
TZNAME:PDT
DTSTART:20260308T100000
END:DAYLIGHT
BEGIN:STANDARD
TZOFFSETFROM:-0700
TZOFFSETTO:-0800
TZNAME:PST
DTSTART:20261101T090000
END:STANDARD
BEGIN:DAYLIGHT
TZOFFSETFROM:-0800
TZOFFSETTO:-0700
TZNAME:PDT
DTSTART:20270314T100000
END:DAYLIGHT
BEGIN:STANDARD
TZOFFSETFROM:-0700
TZOFFSETTO:-0800
TZNAME:PST
DTSTART:20271107T090000
END:STANDARD
END:VTIMEZONE
BEGIN:VEVENT
DTSTART;TZID=America/Los_Angeles:20260422T173000
DTEND;TZID=America/Los_Angeles:20260422T213000
DTSTAMP:20260422T025428
CREATED:20260201T191241Z
LAST-MODIFIED:20260201T191241Z
UID:10015282-1776879000-1776893400@lvjs.org
SUMMARY:Mariano Gonzalez - Bootlegger Bistro
DESCRIPTION:
URL:https://lvjs.org/event/mariano-gonzalez-bootlegger-bistro/2026-04-22/
LOCATION:Bootlegger Bistro\, 7770 S Las Vegas Blvd\, Las Vegas\, 89123\, United States
GEO:36.0483903;-115.1722379
X-APPLE-STRUCTURED-LOCATION;VALUE=URI;X-ADDRESS=Bootlegger Bistro 7770 S Las Vegas Blvd Las Vegas 89123 United States;X-APPLE-RADIUS=500;X-TITLE=7770 S Las Vegas Blvd:geo:-115.1722379,36.0483903
END:VEVENT
BEGIN:VEVENT
DTSTART;TZID=America/Los_Angeles:20260422T180000
DTEND;TZID=America/Los_Angeles:20260422T210000
DTSTAMP:20260422T025428
CREATED:20260327T173427Z
LAST-MODIFIED:20260327T173427Z
UID:10015574-1776880800-1776891600@lvjs.org
SUMMARY:Las Vegas Academy - Vic's
DESCRIPTION:
URL:https://lvjs.org/event/las-vegas-academy-vics/2026-04-22/
LOCATION:Vic’s Las Vegas\, 355 Promenade Place\, Las Vegas\, NV\, 89106\, United States
GEO:36.1689176;-115.1529008
X-APPLE-STRUCTURED-LOCATION;VALUE=URI;X-ADDRESS=Vic’s Las Vegas 355 Promenade Place Las Vegas NV 89106 United States;X-APPLE-RADIUS=500;X-TITLE=355 Promenade Place:geo:-115.1529008,36.1689176
END:VEVENT
BEGIN:VEVENT
DTSTART;TZID=America/Los_Angeles:20260422T190000
DTEND;TZID=America/Los_Angeles:20260422T210000
DTSTAMP:20260422T025428
CREATED:20260310T043629Z
LAST-MODIFIED:20260310T043629Z
UID:10015536-1776884400-1776891600@lvjs.org
SUMMARY:Dave Damiani & Sal "The Voice" Valentinetti -Vic's
DESCRIPTION:
URL:https://lvjs.org/event/dave-damiani-sal-the-voice-valentinetti-vics/
LOCATION:Vic’s Las Vegas\, 355 Promenade Place\, Las Vegas\, NV\, 89106\, United States
GEO:36.1689176;-115.1529008
X-APPLE-STRUCTURED-LOCATION;VALUE=URI;X-ADDRESS=Vic’s Las Vegas 355 Promenade Place Las Vegas NV 89106 United States;X-APPLE-RADIUS=500;X-TITLE=355 Promenade Place:geo:-115.1529008,36.1689176
END:VEVENT
BEGIN:VEVENT
DTSTART;TZID=America/Los_Angeles:20260422T200000
DTEND;TZID=America/Los_Angeles:20260422T230000
DTSTAMP:20260422T025428
CREATED:20230930T184710Z
LAST-MODIFIED:20241204T023413Z
UID:10010445-1776888000-1776898800@lvjs.org
SUMMARY:Ashley Fuller - Piazza Lounge at Tuscany Suites & Casino
DESCRIPTION:
URL:https://lvjs.org/event/ashley-fuller-piazza-lounge-at-tuscany-suites-casino/2026-04-22/
LOCATION:Piazza Lounge at Tuscany Casino\, 255 E. Flamingo Rd\, Las Vegas\, NV\, 89169\, United States
GEO:36.1133965;-115.1600873
X-APPLE-STRUCTURED-LOCATION;VALUE=URI;X-ADDRESS=Piazza Lounge at Tuscany Casino 255 E. Flamingo Rd Las Vegas NV 89169 United States;X-APPLE-RADIUS=500;X-TITLE=255 E. Flamingo Rd:geo:-115.1600873,36.1133965
END:VEVENT
END:VCALENDAR